BEGIN:VCALENDAR
VERSION:2.0
PRODID:-//Gemeinschaftsgrundschule Heggen - ECPv6.15.20//NONSGML v1.0//EN
CALSCALE:GREGORIAN
METHOD:PUBLISH
X-WR-CALNAME:Gemeinschaftsgrundschule Heggen
X-ORIGINAL-URL:https://www.grundschule-heggen.de
X-WR-CALDESC:Veranstaltungen für Gemeinschaftsgrundschule Heggen
REFRESH-INTERVAL;VALUE=DURATION:PT1H
X-Robots-Tag:noindex
X-PUBLISHED-TTL:PT1H
BEGIN:VTIMEZONE
TZID:Europe/Berlin
BEGIN:DAYLIGHT
TZOFFSETFROM:+0100
TZOFFSETTO:+0200
TZNAME:CEST
DTSTART:20250330T010000
END:DAYLIGHT
BEGIN:STANDARD
TZOFFSETFROM:+0200
TZOFFSETTO:+0100
TZNAME:CET
DTSTART:20251026T010000
END:STANDARD
BEGIN:DAYLIGHT
TZOFFSETFROM:+0100
TZOFFSETTO:+0200
TZNAME:CEST
DTSTART:20260329T010000
END:DAYLIGHT
BEGIN:STANDARD
TZOFFSETFROM:+0200
TZOFFSETTO:+0100
TZNAME:CET
DTSTART:20261025T010000
END:STANDARD
BEGIN:DAYLIGHT
TZOFFSETFROM:+0100
TZOFFSETTO:+0200
TZNAME:CEST
DTSTART:20270328T010000
END:DAYLIGHT
BEGIN:STANDARD
TZOFFSETFROM:+0200
TZOFFSETTO:+0100
TZNAME:CET
DTSTART:20271031T010000
END:STANDARD
END:VTIMEZONE
BEGIN:VEVENT
DTSTART;VALUE=DATE:20260501
DTEND;VALUE=DATE:20260502
DTSTAMP:20260425T173953
CREATED:20250826T195339Z
LAST-MODIFIED:20250826T195339Z
UID:7025-1777593600-1777679999@www.grundschule-heggen.de
SUMMARY:1. Mai - Feiertag
DESCRIPTION:
URL:https://www.grundschule-heggen.de/termin/1-mai-feiertag/
END:VEVENT
BEGIN:VEVENT
DTSTART;VALUE=DATE:20260512
DTEND;VALUE=DATE:20260513
DTSTAMP:20260425T173953
CREATED:20250826T195432Z
LAST-MODIFIED:20250826T195432Z
UID:7027-1778544000-1778630399@www.grundschule-heggen.de
SUMMARY:Hof Belke Nr. 9
DESCRIPTION:
URL:https://www.grundschule-heggen.de/termin/hof-belke-nr-9/
END:VEVENT
BEGIN:VEVENT
DTSTART;VALUE=DATE:20260513
DTEND;VALUE=DATE:20260514
DTSTAMP:20260425T173953
CREATED:20250826T195608Z
LAST-MODIFIED:20250826T195608Z
UID:7029-1778630400-1778716799@www.grundschule-heggen.de
SUMMARY:Schulkonzert PZ Meggen\, Kl. 3 + 4
DESCRIPTION:
URL:https://www.grundschule-heggen.de/termin/schulkonzert-pz-meggen-kl-3-4/
END:VEVENT
BEGIN:VEVENT
DTSTART;VALUE=DATE:20260514
DTEND;VALUE=DATE:20260515
DTSTAMP:20260425T173953
CREATED:20250826T195658Z
LAST-MODIFIED:20250826T195658Z
UID:7031-1778716800-1778803199@www.grundschule-heggen.de
SUMMARY:Christi Himmelfahrt - Feiertag
DESCRIPTION:
URL:https://www.grundschule-heggen.de/termin/christi-himmelfahrt-feiertag-2/
END:VEVENT
BEGIN:VEVENT
DTSTART;VALUE=DATE:20260515
DTEND;VALUE=DATE:20260516
DTSTAMP:20260425T173953
CREATED:20250826T195753Z
LAST-MODIFIED:20250826T195753Z
UID:7033-1778803200-1778889599@www.grundschule-heggen.de
SUMMARY:BFT Nr. 3: Schule geschlossen!
DESCRIPTION:
URL:https://www.grundschule-heggen.de/termin/bft-nr-3-schule-geschlossen/
END:VEVENT
BEGIN:VEVENT
DTSTART;TZID=Europe/Berlin:20260520T080000
DTEND;TZID=Europe/Berlin:20260520T084500
DTSTAMP:20260425T173953
CREATED:20250826T195832Z
LAST-MODIFIED:20250826T195832Z
UID:7035-1779264000-1779266700@www.grundschule-heggen.de
SUMMARY:Gottesdienst Kl. 3 + 4
DESCRIPTION:
URL:https://www.grundschule-heggen.de/termin/gottesdienst-kl-3-4-8/
END:VEVENT
BEGIN:VEVENT
DTSTART;TZID=Europe/Berlin:20260520T131500
DTEND;TZID=Europe/Berlin:20260520T143000
DTSTAMP:20260425T173953
CREATED:20250826T195951Z
LAST-MODIFIED:20250826T195951Z
UID:7037-1779282900-1779287400@www.grundschule-heggen.de
SUMMARY:"Mission Schulstart" Nr. 4
DESCRIPTION:
URL:https://www.grundschule-heggen.de/termin/mission-schulstart-nr-4/
END:VEVENT
BEGIN:VEVENT
DTSTART;VALUE=DATE:20260525
DTEND;VALUE=DATE:20260527
DTSTAMP:20260425T173953
CREATED:20250826T200109Z
LAST-MODIFIED:20250826T200109Z
UID:7039-1779667200-1779839999@www.grundschule-heggen.de
SUMMARY:Pfingstferien
DESCRIPTION:
URL:https://www.grundschule-heggen.de/termin/pfingstferien-4/
END:VEVENT
BEGIN:VEVENT
DTSTART;VALUE=DATE:20260603
DTEND;VALUE=DATE:20260604
DTSTAMP:20260425T173953
CREATED:20250826T200156Z
LAST-MODIFIED:20250826T200156Z
UID:7041-1780444800-1780531199@www.grundschule-heggen.de
SUMMARY:Spiel- & Sportfest
DESCRIPTION:
URL:https://www.grundschule-heggen.de/termin/spiel-sportfest/
END:VEVENT
BEGIN:VEVENT
DTSTART;VALUE=DATE:20260604
DTEND;VALUE=DATE:20260605
DTSTAMP:20260425T173953
CREATED:20250826T200300Z
LAST-MODIFIED:20250826T200300Z
UID:7043-1780531200-1780617599@www.grundschule-heggen.de
SUMMARY:Fronleichnam - Feiertag
DESCRIPTION:
URL:https://www.grundschule-heggen.de/termin/fronleichnam-feiertag-2/
END:VEVENT
BEGIN:VEVENT
DTSTART;VALUE=DATE:20260605
DTEND;VALUE=DATE:20260606
DTSTAMP:20260425T173953
CREATED:20250826T200357Z
LAST-MODIFIED:20250826T200357Z
UID:7045-1780617600-1780703999@www.grundschule-heggen.de
SUMMARY:Schule!!
DESCRIPTION:
URL:https://www.grundschule-heggen.de/termin/schule/
END:VEVENT
BEGIN:VEVENT
DTSTART;VALUE=DATE:20260616
DTEND;VALUE=DATE:20260617
DTSTAMP:20260425T173953
CREATED:20250826T200432Z
LAST-MODIFIED:20250826T200432Z
UID:7047-1781568000-1781654399@www.grundschule-heggen.de
SUMMARY:Hof Belke Nr. 10
DESCRIPTION:
URL:https://www.grundschule-heggen.de/termin/hof-belke-nr-10/
END:VEVENT
BEGIN:VEVENT
DTSTART;TZID=Europe/Berlin:20260617T080000
DTEND;TZID=Europe/Berlin:20260617T084500
DTSTAMP:20260425T173953
CREATED:20250826T200512Z
LAST-MODIFIED:20250826T200512Z
UID:7049-1781683200-1781685900@www.grundschule-heggen.de
SUMMARY:Gottesdienst Kl. 3 + 4
DESCRIPTION:
URL:https://www.grundschule-heggen.de/termin/gottesdienst-kl-3-4-9/
END:VEVENT
BEGIN:VEVENT
DTSTART;TZID=Europe/Berlin:20260623T183000
DTEND;TZID=Europe/Berlin:20260623T200000
DTSTAMP:20260425T173953
CREATED:20250826T200643Z
LAST-MODIFIED:20250826T200643Z
UID:7051-1782239400-1782244800@www.grundschule-heggen.de
SUMMARY:Schulkonferenz
DESCRIPTION:
URL:https://www.grundschule-heggen.de/termin/schulkonferenz-7/
END:VEVENT
BEGIN:VEVENT
DTSTART;VALUE=DATE:20260624
DTEND;VALUE=DATE:20260625
DTSTAMP:20260425T173953
CREATED:20250826T200751Z
LAST-MODIFIED:20250826T200751Z
UID:7053-1782259200-1782345599@www.grundschule-heggen.de
SUMMARY:Ausweichtermin Spiel- & Sportfest
DESCRIPTION:
URL:https://www.grundschule-heggen.de/termin/ausweichtermin-spiel-sportfest/
END:VEVENT
BEGIN:VEVENT
DTSTART;TZID=Europe/Berlin:20260707T183000
DTEND;TZID=Europe/Berlin:20260707T200000
DTSTAMP:20260425T173953
CREATED:20250826T200905Z
LAST-MODIFIED:20250826T200905Z
UID:7055-1783449000-1783454400@www.grundschule-heggen.de
SUMMARY:Infoabend Schulanfängereltern
DESCRIPTION:
URL:https://www.grundschule-heggen.de/termin/infoabend-schulanfaengereltern/
END:VEVENT
BEGIN:VEVENT
DTSTART;TZID=Europe/Berlin:20260715T080500
DTEND;TZID=Europe/Berlin:20260715T084500
DTSTAMP:20260425T173953
CREATED:20250826T201038Z
LAST-MODIFIED:20250826T201038Z
UID:7057-1784102700-1784105100@www.grundschule-heggen.de
SUMMARY:Abschlussgottesdienst Kl.4 (und Kl. 3)
DESCRIPTION:
URL:https://www.grundschule-heggen.de/termin/abschlussgottesdienst-kl-4-und-kl-3/
END:VEVENT
BEGIN:VEVENT
DTSTART;TZID=Europe/Berlin:20260717T093000
DTEND;TZID=Europe/Berlin:20260717T105000
DTSTAMP:20260425T173953
CREATED:20250826T201208Z
LAST-MODIFIED:20250826T201208Z
UID:7059-1784280600-1784285400@www.grundschule-heggen.de
SUMMARY:Letzter Schultag mit Verabschiedung der Kl. 4
DESCRIPTION:
URL:https://www.grundschule-heggen.de/termin/letzter-schultag-mit-verabschiedung-der-kl-4/
END:VEVENT
BEGIN:VEVENT
DTSTART;VALUE=DATE:20260902
DTEND;VALUE=DATE:20260903
DTSTAMP:20260425T173953
CREATED:20250826T201351Z
LAST-MODIFIED:20250826T201351Z
UID:7063-1788307200-1788393599@www.grundschule-heggen.de
SUMMARY:Erster Schultag
DESCRIPTION:
URL:https://www.grundschule-heggen.de/termin/erster-schultag-5/
END:VEVENT
BEGIN:VEVENT
DTSTART;VALUE=DATE:20260903
DTEND;VALUE=DATE:20260904
DTSTAMP:20260425T173953
CREATED:20250826T201432Z
LAST-MODIFIED:20250826T201509Z
UID:7065-1788393600-1788479999@www.grundschule-heggen.de
SUMMARY:Einschulung
DESCRIPTION:
URL:https://www.grundschule-heggen.de/termin/einschulung/
END:VEVENT
BEGIN:VEVENT
DTSTART;VALUE=DATE:20260904
DTEND;VALUE=DATE:20260905
DTSTAMP:20260425T173953
CREATED:20250826T201551Z
LAST-MODIFIED:20250826T201551Z
UID:7067-1788480000-1788566399@www.grundschule-heggen.de
SUMMARY:Stundenplan gilt ab heute!
DESCRIPTION:
URL:https://www.grundschule-heggen.de/termin/stundenplan-gilt-ab-heute-2/
END:VEVENT
END:VCALENDAR